BEGIN:VCALENDAR
VERSION:2.0
PRODID:-//Prime Pass - ECPv6.15.20//NONSGML v1.0//EN
CALSCALE:GREGORIAN
METHOD:PUBLISH
X-ORIGINAL-URL:https://prime-pass.co.uk
X-WR-CALDESC:Events for Prime Pass
REFRESH-INTERVAL;VALUE=DURATION:PT1H
X-Robots-Tag:noindex
X-PUBLISHED-TTL:PT1H
BEGIN:VTIMEZONE
TZID:Europe/London
BEGIN:DAYLIGHT
TZOFFSETFROM:+0000
TZOFFSETTO:+0100
TZNAME:BST
DTSTART:20240331T010000
END:DAYLIGHT
BEGIN:STANDARD
TZOFFSETFROM:+0100
TZOFFSETTO:+0000
TZNAME:GMT
DTSTART:20241027T010000
END:STANDARD
BEGIN:DAYLIGHT
TZOFFSETFROM:+0000
TZOFFSETTO:+0100
TZNAME:BST
DTSTART:20250330T010000
END:DAYLIGHT
BEGIN:STANDARD
TZOFFSETFROM:+0100
TZOFFSETTO:+0000
TZNAME:GMT
DTSTART:20251026T010000
END:STANDARD
BEGIN:DAYLIGHT
TZOFFSETFROM:+0000
TZOFFSETTO:+0100
TZNAME:BST
DTSTART:20260329T010000
END:DAYLIGHT
BEGIN:STANDARD
TZOFFSETFROM:+0100
TZOFFSETTO:+0000
TZNAME:GMT
DTSTART:20261025T010000
END:STANDARD
END:VTIMEZONE
BEGIN:VEVENT
DTSTART;TZID=Europe/London:20250810T160000
DTEND;TZID=Europe/London:20250810T180000
DTSTAMP:20260419T204450
CREATED:20250619T211546Z
LAST-MODIFIED:20250701T174658Z
UID:10003216-1754841600-1754848800@prime-pass.co.uk
SUMMARY:Paint a Pic: Northern Lights
DESCRIPTION:Come down and paint your own masterpiece with the guidance of our resident artist. We provide the materials canvas\, apron\, paint\, and easel\, the subject\, music\, and the bar to go with it drinks not included. So\, whether alone or with friends \,you can have a great time\, and leave with your own piece of art to take home with you! \nKey Information \nPlease check your ticket time carefully  \nSubject :  Northern Lights \nNo experience necessary – we take you through it step by step \nWe use high quality materials with everything included in the price \nMaximum of 25 people in the class so that you get more time with the artist to perfect your masterpiece \nFeel free to stick around for drinks after class! \nAny questions please email: info@prime-pass.co.uk
URL:https://prime-pass.co.uk/event/paint-a-pic-northern-lights-114/
LOCATION:Department Sheffield\, Food hall Castle House Angel street\, Sheffield\, S3 8LN
CATEGORIES:Paint A Pic,Paint Activities,Painting Events,Sheffield,Sip and Paint,Sundays
ATTACH;FMTTYPE=image/jpeg:https://prime-pass.co.uk/wp-content/uploads/2024/04/Northern_Lights-scaled-1.webp
ORGANIZER;CN="Prime Pass":MAILTO:info@prime-pass.co.uk
END:VEVENT
BEGIN:VEVENT
DTSTART;TZID=Europe/London:20250720T160000
DTEND;TZID=Europe/London:20250720T180000
DTSTAMP:20260419T204450
CREATED:20250619T211433Z
LAST-MODIFIED:20250701T174606Z
UID:10003215-1753027200-1753034400@prime-pass.co.uk
SUMMARY:Paint a Pic: Bonsai Tree
DESCRIPTION:Come down and paint your own masterpiece with the guidance of our resident artist. We provide the materials (canvas\, apron\, paint\, and easel)\, the subject\, music\, and the bar to go with it (drinks not included). \nNo experience necessary – we take you through it step by step. We use high quality materials with everything included in the price. There’s a maximum of 25 people in each class so that you get more time with the artist to perfect your masterpiece! \nSo\, whether alone or with friends\, you can have a great time\, and leave with your own piece of art to take home with you. You can also feel free to stick around for drinks after class! \nKey information\nSubject: Bonsai Tree \nPlease check your ticket time carefully \nIf you’ve got any questions\, send us an email at info@prime-pass.co.uk
URL:https://prime-pass.co.uk/event/paint-a-pic-bonsai-tree-26/
LOCATION:Department Sheffield\, Food hall Castle House Angel street\, Sheffield\, S3 8LN
CATEGORIES:In-person Prime Pass,Paint A Pic,Paint Activities,Painting Events,Sheffield,Sip and Paint,Sundays
ATTACH;FMTTYPE=image/jpeg:https://prime-pass.co.uk/wp-content/uploads/2024/06/Bonsai-Tree-scaled.webp
ORGANIZER;CN="Prime Pass":MAILTO:info@prime-pass.co.uk
END:VEVENT
BEGIN:VEVENT
DTSTART;TZID=Europe/London:20250713T160000
DTEND;TZID=Europe/London:20250713T180000
DTSTAMP:20260419T204450
CREATED:20250619T211300Z
LAST-MODIFIED:20250701T174356Z
UID:10003214-1752422400-1752429600@prime-pass.co.uk
SUMMARY:Paint a Pic : Dock in the Sunset
DESCRIPTION:Come down and paint your own masterpiece with the guidance of our resident artist. We provide the materials (canvas\, apron\, paint\, and easel)\, the subject\, music\, and the bar to go with it (drinks not included). \nNo experience necessary – we take you through it step by step. We use high quality materials with everything included in the price. There’s a maximum of 25 people in each class so that you get more time with the artist to perfect your masterpiece! \nSo\, whether alone or with friends\, you can have a great time\, and leave with your own piece of art to take home with you. You can also feel free to stick around for drinks after class! \nKey information\nSubject: Dock in the Sunset \nPlease check your ticket time carefully \nIf you’ve got any questions\, send us an email at info@prime-pass.co.uk
URL:https://prime-pass.co.uk/event/paint-a-pic-dock-in-the-sunset-100/
LOCATION:Department Sheffield\, Food hall Castle House Angel street\, Sheffield\, S3 8LN
CATEGORIES:Paint A Pic,Paint Activities,Painting Events,Sheffield,Sip and Paint,Sundays
ATTACH;FMTTYPE=image/jpeg:https://prime-pass.co.uk/wp-content/uploads/2024/04/Dock-in-the-Sunset-1.webp
ORGANIZER;CN="Prime Pass":MAILTO:info@prime-pass.co.uk
END:VEVENT
END:VCALENDAR