BEGIN:VCALENDAR
VERSION:2.0
PRODID:-//Prime Pass - ECPv6.15.20//NONSGML v1.0//EN
CALSCALE:GREGORIAN
METHOD:PUBLISH
X-ORIGINAL-URL:https://prime-pass.co.uk
X-WR-CALDESC:Events for Prime Pass
REFRESH-INTERVAL;VALUE=DURATION:PT1H
X-Robots-Tag:noindex
X-PUBLISHED-TTL:PT1H
BEGIN:VTIMEZONE
TZID:Europe/London
BEGIN:DAYLIGHT
TZOFFSETFROM:+0000
TZOFFSETTO:+0100
TZNAME:BST
DTSTART:20250330T010000
END:DAYLIGHT
BEGIN:STANDARD
TZOFFSETFROM:+0100
TZOFFSETTO:+0000
TZNAME:GMT
DTSTART:20251026T010000
END:STANDARD
BEGIN:DAYLIGHT
TZOFFSETFROM:+0000
TZOFFSETTO:+0100
TZNAME:BST
DTSTART:20260329T010000
END:DAYLIGHT
BEGIN:STANDARD
TZOFFSETFROM:+0100
TZOFFSETTO:+0000
TZNAME:GMT
DTSTART:20261025T010000
END:STANDARD
BEGIN:DAYLIGHT
TZOFFSETFROM:+0000
TZOFFSETTO:+0100
TZNAME:BST
DTSTART:20270328T010000
END:DAYLIGHT
BEGIN:STANDARD
TZOFFSETFROM:+0100
TZOFFSETTO:+0000
TZNAME:GMT
DTSTART:20271031T010000
END:STANDARD
END:VTIMEZONE
BEGIN:VEVENT
DTSTART;TZID=Europe/London:20260704T110000
DTEND;TZID=Europe/London:20260704T130000
DTSTAMP:20260421T161644
CREATED:20260404T165003Z
LAST-MODIFIED:20260415T154729Z
UID:10004001-1783162800-1783170000@prime-pass.co.uk
SUMMARY:Paint a Pic: Northern Lights
DESCRIPTION:Come down and paint your own masterpiece with the guidance of our resident artist. We provide the materials (canvas\, apron\, paint\, and easel)\, the subject\, music\, and the bar to go with it (drinks not included). \nNo experience necessary – we take you through it step by step. We use high quality materials with everything included in the price. There is a maximum of 25 people in each class so that you get more time with the artist to perfect your masterpiece! \nSo\, whether alone or with friends\, you can have a great time\, and leave with your own piece of art to take home with you. You can also feel free to stick around for drinks after class! \nKey information \nPlease check your ticket time carefully \nIf youve got any questions\, send us an email at info@prime-pass.co.uk
URL:https://prime-pass.co.uk/event/paint-a-pic-northern-lights-7/
LOCATION:Finch’s\, 12A Finsbury Square\, London\, EC2A 1AN\, United Kingdom
CATEGORIES:In-person Prime Pass,London,Paint A Pic,Paint Activities,Painting Events,Sip and Paint,Sip and Paint London Classes
ATTACH;FMTTYPE=image/jpeg:https://prime-pass.co.uk/wp-content/uploads/2024/04/Northern_Lights-scaled-1.webp
ORGANIZER;CN="Prime Pass":MAILTO:info@prime-pass.co.uk
END:VEVENT
BEGIN:VEVENT
DTSTART;TZID=Europe/London:20260704T140000
DTEND;TZID=Europe/London:20260704T160000
DTSTAMP:20260421T161644
CREATED:20260404T165003Z
LAST-MODIFIED:20260415T154929Z
UID:10004002-1783173600-1783180800@prime-pass.co.uk
SUMMARY:Paint a Pic: Tropical Parrot
DESCRIPTION:Come down and paint your own masterpiece with the guidance of our resident artist. We provide the materials (canvas\, apron\, paint\, and easel)\, the subject\, music\, and the bar to go with it (drinks not included). \nNo experience necessary – we take you through it step by step. We use high quality materials with everything included in the price. There is a maximum of 25 people in each class so that you get more time with the artist to perfect your masterpiece! \nSo\, whether alone or with friends\, you can have a great time\, and leave with your own piece of art to take home with you. You can also feel free to stick around for drinks after class! \nKey information \nPlease check your ticket time carefully \nIf youve got any questions\, send us an email at info@prime-pass.co.uk
URL:https://prime-pass.co.uk/event/paint-a-pic-tropical-parrot-2/
LOCATION:Finch’s\, 12A Finsbury Square\, London\, EC2A 1AN\, United Kingdom
CATEGORIES:In-person Prime Pass,London,Paint A Pic,Paint Activities,Painting Events,Sip and Paint,Sip and Paint London Classes
ATTACH;FMTTYPE=image/jpeg:https://prime-pass.co.uk/wp-content/uploads/2024/04/Tropical-Parrot.webp
ORGANIZER;CN="Prime Pass":MAILTO:info@prime-pass.co.uk
END:VEVENT
BEGIN:VEVENT
DTSTART;TZID=Europe/London:20260711T110000
DTEND;TZID=Europe/London:20260711T130000
DTSTAMP:20260421T161644
CREATED:20260404T165003Z
LAST-MODIFIED:20260415T160313Z
UID:10004003-1783767600-1783774800@prime-pass.co.uk
SUMMARY:Paint a Pic: The Starry Night
DESCRIPTION:Come down and paint your own masterpiece with the guidance of our resident artist. We provide the materials (canvas\, apron\, paint\, and easel)\, the subject\, music\, and the bar to go with it (drinks not included). \nNo experience necessary – we take you through it step by step. We use high quality materials with everything included in the price. There is a maximum of 25 people in each class so that you get more time with the artist to perfect your masterpiece! \nSo\, whether alone or with friends\, you can have a great time\, and leave with your own piece of art to take home with you. You can also feel free to stick around for drinks after class! \nKey information \nPlease check your ticket time carefully \nIf youve got any questions\, send us an email at info@prime-pass.co.uk
URL:https://prime-pass.co.uk/event/paint-a-pic-the-starry-night-3/
LOCATION:Finch’s\, 12A Finsbury Square\, London\, EC2A 1AN\, United Kingdom
CATEGORIES:In-person Prime Pass,London,Paint A Pic,Paint Activities,Painting Events,Sip and Paint,Sip and Paint London Classes
ATTACH;FMTTYPE=image/jpeg:https://prime-pass.co.uk/wp-content/uploads/2024/04/The_Starry_Night_1_60.webp
ORGANIZER;CN="Prime Pass":MAILTO:info@prime-pass.co.uk
END:VEVENT
BEGIN:VEVENT
DTSTART;TZID=Europe/London:20260711T140000
DTEND;TZID=Europe/London:20260711T160000
DTSTAMP:20260421T161644
CREATED:20260404T165003Z
LAST-MODIFIED:20260415T160530Z
UID:10004004-1783778400-1783785600@prime-pass.co.uk
SUMMARY:Paint a Pic: Wild Stag
DESCRIPTION:Come down and paint your own masterpiece with the guidance of our resident artist. We provide the materials (canvas\, apron\, paint\, and easel)\, the subject\, music\, and the bar to go with it (drinks not included). \nNo experience necessary – we take you through it step by step. We use high quality materials with everything included in the price. There is a maximum of 25 people in each class so that you get more time with the artist to perfect your masterpiece! \nSo\, whether alone or with friends\, you can have a great time\, and leave with your own piece of art to take home with you. You can also feel free to stick around for drinks after class! \nKey information \nPlease check your ticket time carefully \nIf youve got any questions\, send us an email at info@prime-pass.co.uk
URL:https://prime-pass.co.uk/event/paint-a-pic-wild-stag-3/
LOCATION:Finch’s\, 12A Finsbury Square\, London\, EC2A 1AN\, United Kingdom
CATEGORIES:In-person Prime Pass,London,Paint A Pic,Paint Activities,Painting Events,Sip and Paint,Sip and Paint London Classes
ATTACH;FMTTYPE=image/jpeg:https://prime-pass.co.uk/wp-content/uploads/2024/04/Wild_Stag-scaled-1.webp
ORGANIZER;CN="Prime Pass":MAILTO:info@prime-pass.co.uk
END:VEVENT
BEGIN:VEVENT
DTSTART;TZID=Europe/London:20260712T103000
DTEND;TZID=Europe/London:20260712T130000
DTSTAMP:20260421T161644
CREATED:20260216T200838Z
LAST-MODIFIED:20260216T200838Z
UID:10003754-1783852200-1783861200@prime-pass.co.uk
SUMMARY:Paint a Pic : Night & Day
DESCRIPTION:Come down and paint your own masterpiece with the guidance of our resident artist. We provide the materials (canvas\, apron\, paint\, and easel)\, the subject\, music\, and the bar to go with it (drinks not included). \nNo experience necessary – we take you through it step by step. We use high quality materials with everything included in the price. There’s a maximum of 25 people in each class so that you get more time with the artist to perfect your masterpiece! \nSo\, whether alone or with friends\, you can have a great time\, and leave with your own piece of art to take home with you. You can also feel free to stick around for drinks after class! \nKey information\nSubject: Night & Day \nPlease check your ticket time carefully \nIf you’ve got any questions\, send us an email at info@prime-pass.co.uk
URL:https://prime-pass.co.uk/event/paint-a-pic-night-day-69/
LOCATION:Fox Lane Studios\, 1 Fox Lane\, Cardiff\, CF241JN
CATEGORIES:Cardiff,Paint A Pic,Paint Activities,Painting Events,Sip and Paint,Sip and Paint Cardiff Classes,Sundays
ATTACH;FMTTYPE=image/jpeg:https://prime-pass.co.uk/wp-content/uploads/2024/04/Night__Day_75-scaled-1.webp
ORGANIZER;CN="Prime Pass":MAILTO:info@prime-pass.co.uk
END:VEVENT
BEGIN:VEVENT
DTSTART;TZID=Europe/London:20260718T110000
DTEND;TZID=Europe/London:20260718T130000
DTSTAMP:20260421T161644
CREATED:20260404T165003Z
LAST-MODIFIED:20260415T160810Z
UID:10004005-1784372400-1784379600@prime-pass.co.uk
SUMMARY:Paint a Pic: Percy the Peacock
DESCRIPTION:Come down and paint your own masterpiece with the guidance of our resident artist. We provide the materials (canvas\, apron\, paint\, and easel)\, the subject\, music\, and the bar to go with it (drinks not included). \nNo experience necessary – we take you through it step by step. We use high quality materials with everything included in the price. There is a maximum of 25 people in each class so that you get more time with the artist to perfect your masterpiece! \nSo\, whether alone or with friends\, you can have a great time\, and leave with your own piece of art to take home with you. You can also feel free to stick around for drinks after class! \nKey information \nPlease check your ticket time carefully \nIf youve got any questions\, send us an email at info@prime-pass.co.uk
URL:https://prime-pass.co.uk/event/paint-a-pic-percy-the-peacock-2/
LOCATION:Finch’s\, 12A Finsbury Square\, London\, EC2A 1AN\, United Kingdom
CATEGORIES:In-person Prime Pass,London,Paint A Pic,Paint Activities,Painting Events,Sip and Paint,Sip and Paint London Classes
ATTACH;FMTTYPE=image/jpeg:https://prime-pass.co.uk/wp-content/uploads/2024/04/Percy-the-Peacock-scaled-1.webp
ORGANIZER;CN="Prime Pass":MAILTO:info@prime-pass.co.uk
END:VEVENT
BEGIN:VEVENT
DTSTART;TZID=Europe/London:20260718T140000
DTEND;TZID=Europe/London:20260718T160000
DTSTAMP:20260421T161644
CREATED:20260404T165003Z
LAST-MODIFIED:20260415T161220Z
UID:10004006-1784383200-1784390400@prime-pass.co.uk
SUMMARY:Paint a Pic: Love Tree
DESCRIPTION:Come down and paint your own masterpiece with the guidance of our resident artist. We provide the materials (canvas\, apron\, paint\, and easel)\, the subject\, music\, and the bar to go with it (drinks not included). \nNo experience necessary – we take you through it step by step. We use high quality materials with everything included in the price. There is a maximum of 25 people in each class so that you get more time with the artist to perfect your masterpiece! \nSo\, whether alone or with friends\, you can have a great time\, and leave with your own piece of art to take home with you. You can also feel free to stick around for drinks after class! \nKey information \nPlease check your ticket time carefully \nIf you’ve got any questions\, send us an email at info@prime-pass.co.uk
URL:https://prime-pass.co.uk/event/paint-a-pic-love-tree-4/
LOCATION:Finch’s\, 12A Finsbury Square\, London\, EC2A 1AN\, United Kingdom
CATEGORIES:In-person Prime Pass,London,Paint A Pic,Paint Activities,Painting Events,Sip and Paint,Sip and Paint London Classes
ATTACH;FMTTYPE=image/jpeg:https://prime-pass.co.uk/wp-content/uploads/2024/04/Love-Tree-scaled-1.webp
ORGANIZER;CN="Prime Pass":MAILTO:info@prime-pass.co.uk
END:VEVENT
BEGIN:VEVENT
DTSTART;TZID=Europe/London:20260725T110000
DTEND;TZID=Europe/London:20260725T130000
DTSTAMP:20260421T161644
CREATED:20260404T165003Z
LAST-MODIFIED:20260415T161635Z
UID:10004007-1784977200-1784984400@prime-pass.co.uk
SUMMARY:Paint a Pic: Night In Paris
DESCRIPTION:Come down and paint your own masterpiece with the guidance of our resident artist. We provide the materials (canvas\, apron\, paint\, and easel)\, the subject\, music\, and the bar to go with it (drinks not included). \nNo experience necessary – we take you through it step by step. We use high quality materials with everything included in the price. There is a maximum of 25 people in each class so that you get more time with the artist to perfect your masterpiece! \nSo\, whether alone or with friends\, you can have a great time\, and leave with your own piece of art to take home with you. You can also feel free to stick around for drinks after class! \nKey information \nPlease check your ticket time carefully \nIf youve got any questions\, send us an email at info@prime-pass.co.uk
URL:https://prime-pass.co.uk/event/paint-a-pic-night-in-paris-2/
LOCATION:Finch’s\, 12A Finsbury Square\, London\, EC2A 1AN\, United Kingdom
CATEGORIES:In-person Prime Pass,London,Paint A Pic,Paint Activities,Painting Events,Sip and Paint,Sip and Paint London Classes
ATTACH;FMTTYPE=image/jpeg:https://prime-pass.co.uk/wp-content/uploads/2024/04/A-night-in-Paris-scaled-1.webp
ORGANIZER;CN="Prime Pass":MAILTO:info@prime-pass.co.uk
END:VEVENT
BEGIN:VEVENT
DTSTART;TZID=Europe/London:20260725T140000
DTEND;TZID=Europe/London:20260725T160000
DTSTAMP:20260421T161644
CREATED:20260404T165003Z
LAST-MODIFIED:20260415T161843Z
UID:10004008-1784988000-1784995200@prime-pass.co.uk
SUMMARY:Paint a Pic: Night & Day
DESCRIPTION:Come down and paint your own masterpiece with the guidance of our resident artist. We provide the materials (canvas\, apron\, paint\, and easel)\, the subject\, music\, and the bar to go with it (drinks not included). \nNo experience necessary – we take you through it step by step. We use high quality materials with everything included in the price. There is a maximum of 25 people in each class so that you get more time with the artist to perfect your masterpiece! \nSo\, whether alone or with friends\, you can have a great time\, and leave with your own piece of art to take home with you. You can also feel free to stick around for drinks after class! \nKey information \nPlease check your ticket time carefully \nIf youve got any questions\, send us an email at info@prime-pass.co.uk
URL:https://prime-pass.co.uk/event/paint-a-pic-night-day-3/
LOCATION:Finch’s\, 12A Finsbury Square\, London\, EC2A 1AN\, United Kingdom
CATEGORIES:In-person Prime Pass,London,Paint A Pic,Paint Activities,Painting Events,Sip and Paint,Sip and Paint London Classes
ATTACH;FMTTYPE=image/jpeg:https://prime-pass.co.uk/wp-content/uploads/2024/04/Night__Day_75-scaled-1.webp
ORGANIZER;CN="Prime Pass":MAILTO:info@prime-pass.co.uk
END:VEVENT
BEGIN:VEVENT
DTSTART;TZID=Europe/London:20260801T110000
DTEND;TZID=Europe/London:20260801T130000
DTSTAMP:20260421T161644
CREATED:20260404T165003Z
LAST-MODIFIED:20260415T162119Z
UID:10004009-1785582000-1785589200@prime-pass.co.uk
SUMMARY:Paint a Pic: Golden Harbour
DESCRIPTION:Come down and paint your own masterpiece with the guidance of our resident artist. We provide the materials (canvas\, apron\, paint\, and easel)\, the subject\, music\, and the bar to go with it (drinks not included). \nNo experience necessary – we take you through it step by step. We use high quality materials with everything included in the price. There is a maximum of 25 people in each class so that you get more time with the artist to perfect your masterpiece! \nSo\, whether alone or with friends\, you can have a great time\, and leave with your own piece of art to take home with you. You can also feel free to stick around for drinks after class! \nKey information \nPlease check your ticket time carefully \nIf youve got any questions\, send us an email at info@prime-pass.co.uk
URL:https://prime-pass.co.uk/event/paint-a-pic-golden-harbour/
LOCATION:Finch’s\, 12A Finsbury Square\, London\, EC2A 1AN\, United Kingdom
CATEGORIES:In-person Prime Pass,London,Paint A Pic,Paint Activities,Painting Events,Sip and Paint,Sip and Paint London Classes
ATTACH;FMTTYPE=image/jpeg:https://prime-pass.co.uk/wp-content/uploads/2024/04/Golden_Arbor_60_1_40.webp
ORGANIZER;CN="Prime Pass":MAILTO:info@prime-pass.co.uk
END:VEVENT
BEGIN:VEVENT
DTSTART;TZID=Europe/London:20260801T140000
DTEND;TZID=Europe/London:20260801T160000
DTSTAMP:20260421T161644
CREATED:20260404T165003Z
LAST-MODIFIED:20260415T162420Z
UID:10004010-1785592800-1785600000@prime-pass.co.uk
SUMMARY:Paint a Pic: Giraffes Having a Laugh
DESCRIPTION:Come down and paint your own masterpiece with the guidance of our resident artist. We provide the materials (canvas\, apron\, paint\, and easel)\, the subject\, music\, and the bar to go with it (drinks not included). \nNo experience necessary – we take you through it step by step. We use high quality materials with everything included in the price. There is a maximum of 25 people in each class so that you get more time with the artist to perfect your masterpiece! \nSo\, whether alone or with friends\, you can have a great time\, and leave with your own piece of art to take home with you. You can also feel free to stick around for drinks after class! \nKey information \nPlease check your ticket time carefully \nIf youve got any questions\, send us an email at info@prime-pass.co.uk
URL:https://prime-pass.co.uk/event/paint-a-pic-giraffes-having-a-laugh-3/
LOCATION:Finch’s\, 12A Finsbury Square\, London\, EC2A 1AN\, United Kingdom
CATEGORIES:In-person Prime Pass,London,Paint A Pic,Paint Activities,Painting Events,Sip and Paint,Sip and Paint London Classes
ATTACH;FMTTYPE=image/jpeg:https://prime-pass.co.uk/wp-content/uploads/2024/04/Giraffes-Having-a-Laugh-scaled-1.webp
ORGANIZER;CN="Prime Pass":MAILTO:info@prime-pass.co.uk
END:VEVENT
BEGIN:VEVENT
DTSTART;TZID=Europe/London:20260913T103000
DTEND;TZID=Europe/London:20260913T130000
DTSTAMP:20260421T161644
CREATED:20260216T201214Z
LAST-MODIFIED:20260317T073430Z
UID:10003755-1789295400-1789304400@prime-pass.co.uk
SUMMARY:Paint a Pic : Bright Night
DESCRIPTION:Come down and paint your own masterpiece with the guidance of our resident artist. We provide the materials (canvas\, apron\, paint\, and easel)\, the subject and music. \nNo experience necessary – we take you through it step by step. We use high quality materials with everything included in the price. There’s a maximum of 25 people in each class so that you get more time with the artist to perfect your masterpiece! \nSo\, whether alone or with friends\, you can have a great time\, and leave with your own piece of art to take home with you. You can also feel free to stick around for drinks after class! \nKey information\nSubject: Bright Night \nPlease check your ticket time carefully \nIf you’ve got any questions\, send us an email at info@prime-pass.co.uk
URL:https://prime-pass.co.uk/event/paint-a-pic-bright-night-88/
LOCATION:Fox Lane Studios\, 1 Fox Lane\, Cardiff\, CF241JN
CATEGORIES:Cardiff,In-person Prime Pass,Paint A Pic,Paint Activities,Painting Events,Sip and Paint,Sip and Paint Cardiff Classes,Sundays
ATTACH;FMTTYPE=image/jpeg:https://prime-pass.co.uk/wp-content/uploads/2024/04/A_Bright_Night-1-scaled-1.webp
ORGANIZER;CN="Prime Pass":MAILTO:info@prime-pass.co.uk
END:VEVENT
END:VCALENDAR